BEGIN:VCALENDAR
VERSION:2.0
PRODID:-//Holy Name Catholic Church - ECPv5.1.6//NONSGML v1.0//EN
CALSCALE:GREGORIAN
METHOD:PUBLISH
X-WR-CALNAME:Holy Name Catholic Church
X-ORIGINAL-URL:https://holynamecalgary.ca
X-WR-CALDESC:Events for Holy Name Catholic Church
BEGIN:VTIMEZONE
TZID:UTC
BEGIN:STANDARD
TZOFFSETFROM:+0000
TZOFFSETTO:+0000
TZNAME:UTC
DTSTART:20200101T000000
END:STANDARD
END:VTIMEZONE
BEGIN:VEVENT
DTSTART;TZID=UTC:20200923T190000
DTEND;TZID=UTC:20200923T193000
DTSTAMP:20260421T015322
CREATED:20200918T003507Z
LAST-MODIFIED:20200918T003918Z
UID:3332-1600887600-1600889400@holynamecalgary.ca
SUMMARY:Training Session for Mass Team Volunteers
DESCRIPTION:The Volunteer Team for Mass is comprised of the following:\n \nA Safety Coordinator:\nThis person coordinates the Mass Team Volunteers\, ensuring roles are covered off\, and fills in where required.\n\nPoint of Entry Person:\nThis person greets parishioners as they arrive outside Holy Name Church for Mass\, checks them against a pre-registration sign-up list and verifies they are healthy according to AHS guidelines.\n\nSanitizer:\nThis person is responsible for spraying parishioner’s hands with sanitizing solution as they enter the church and after they receive Holy Communion.\n\nUshers:\nThe Ushers seat people in the church\, in an orderly fashion according to demarcated seating areas in the pews\, ensuring social distancing.\n\nLector:\nThe Lector leads the people in reading the Word of God.  The Lector ensures his/her hands are sanitized before and after reading the Word of God.\n\nSacristan:\nThe Sacristan prepares the church for Mass\, ensuring all vessels are sanitized before and after Mass.\n\nVolunteering for Mass Teams does not take a lot of your time\, and ensures that Holy Mass can be celebrated in a safe and meaningful manner.\nTraining should not take more than half an hour. \nThank you in advance for considering being a Volunteer.\n 
URL:https://holynamecalgary.ca/event/training-session-for-mass-team-volunteers/
LOCATION:Holy Name Church\, 2223 34 St SW\, Calgary\, Alberta\, T3E 2W2\, Canada
END:VEVENT
END:VCALENDAR